BEGIN:VCALENDAR
VERSION:2.0
PRODID:-//Elementor - Talent/Model Agency Demo Theme - ECPv6.0.9//NONSGML v1.0//EN
CALSCALE:GREGORIAN
METHOD:PUBLISH
X-WR-CALNAME:Elementor - Talent/Model Agency Demo Theme
X-ORIGINAL-URL:http://themes.sitesspark.com/ele-ssdemo
X-WR-CALDESC:Events for Elementor - Talent/Model Agency Demo Theme
REFRESH-INTERVAL;VALUE=DURATION:PT1H
X-Robots-Tag:noindex
X-PUBLISHED-TTL:PT1H
BEGIN:VTIMEZONE
TZID:UTC
BEGIN:STANDARD
TZOFFSETFROM:+0000
TZOFFSETTO:+0000
TZNAME:UTC
DTSTART:20230101T000000
END:STANDARD
END:VTIMEZONE
BEGIN:VEVENT
DTSTART;TZID=UTC:20230106T080000
DTEND;TZID=UTC:20230528T170000
DTSTAMP:20260426T035845
CREATED:20230120T173130Z
LAST-MODIFIED:20230209T160255Z
UID:1810-1672992000-1685293200@themes.sitesspark.com
SUMMARY:Kajura Model Fest 2023
DESCRIPTION:Aliquam sem fringilla ut morbi tincidunt augue interdum velit. Integer eget aliquet nibh praesent tristique magna sit amet purus. Pellentesque elit ullamcorper dignissim cras tincidunt lobortis. Fringilla ut morbi tincidunt augue interdum velit euismod. Fringilla est ullamcorper eget nulla facilisi etiam dignissim diam. Hac habitasse platea dictumst vestibulum rhoncus est.  \nConsectetur adipiscing elit ut aliquam purus sit amet luctus venenatis. Nec tincidunt praesent semper feugiat nibh. Fringilla est ullamcorper eget nulla facilisi. Ligula ullamcorper malesuada proin libero. Cursus metus aliquam eleifend mi in. Pulvinar mattis nunc sed blandit. Gravida rutrum quisque non tellus orci. Montes nascetur ridiculus mus mauris vitae ultricies. Risus nullam eget felis eget nunc lobortis mattis.
URL:http://themes.sitesspark.com/ele-ssdemo/model-event/kajura-model-fest-2023/
END:VEVENT
BEGIN:VEVENT
DTSTART;TZID=UTC:20230208T080000
DTEND;TZID=UTC:20230430T170000
DTSTAMP:20260426T035845
CREATED:20230209T155905Z
LAST-MODIFIED:20230209T155905Z
UID:2633-1675843200-1682874000@themes.sitesspark.com
SUMMARY:Blom Model Show 2023
DESCRIPTION:Aliquam sem fringilla ut morbi tincidunt augue interdum velit. Integer eget aliquet nibh praesent tristique magna sit amet purus. Pellentesque elit ullamcorper dignissim cras tincidunt lobortis. Fringilla ut morbi tincidunt augue interdum velit euismod. Fringilla est ullamcorper eget nulla facilisi etiam dignissim diam. Hac habitasse platea dictumst vestibulum rhoncus est. \nConsectetur adipiscing elit ut aliquam purus sit amet luctus venenatis. Nec tincidunt praesent semper feugiat nibh. Fringilla est ullamcorper eget nulla facilisi. Ligula ullamcorper malesuada proin libero. Cursus metus aliquam eleifend mi in. Pulvinar mattis nunc sed blandit. Gravida rutrum quisque non tellus orci. Montes nascetur ridiculus mus mauris vitae ultricies. Risus nullam eget felis eget nunc lobortis mattis. \nAliquam sem fringilla ut morbi tincidunt augue interdum velit. Integer eget aliquet nibh praesent tristique magna sit amet purus. Pellentesque elit ullamcorper dignissim cras tincidunt lobortis. Fringilla ut morbi tincidunt augue interdum velit euismod. Fringilla est ullamcorper eget nulla facilisi etiam dignissim diam. Hac habitasse platea dictumst vestibulum rhoncus est. \nConsectetur adipiscing elit ut aliquam purus sit amet luctus venenatis. Nec tincidunt praesent semper feugiat nibh. Fringilla est ullamcorper eget nulla facilisi. Ligula ullamcorper malesuada proin libero. Cursus metus aliquam eleifend mi in. Pulvinar mattis nunc sed blandit. Gravida rutrum quisque non tellus orci. Montes nascetur ridiculus mus mauris vitae ultricies. Risus nullam eget felis eget nunc lobortis mattis.
URL:http://themes.sitesspark.com/ele-ssdemo/model-event/blom-model-show-2023/
LOCATION:New venu Models\, ABC Location\, Brown city\, Åland Islands
END:VEVENT
END:VCALENDAR